Workbook
Name Auslastung: '[1]5. Gesamt'!$D$11
Name Auslastung: '[1]5. Gesamt'!$D$11
Name Auslastung: '[1]5. Gesamt'!$D$11
Name Auslastung: '[1]5. Gesamt'!$D$11
Name Auslastung: '[1]5. Gesamt'!$D$11
Name Auslastung: '5. Gesamt'!$D$11
Name AWO_TVLEQ1a: #REF!
Name AWO_TVLEQ1b: #REF!
Name AWO_TVLEQ2: #REF!
Name AWO_TVLEQ3: #REF!
Name AWO_TVLEQ4: #REF!
Name AWO_TVLSQ1a: #REF!
Name AWO_TVLSQ1b: #REF!
Name AWO_TVLSQ2: #REF!
Name AWO_TVLSQ3: #REF!
Name AWO_TVLSQ4: #REF!
Name Basiskosten_iL: '[1]5. Gesamt'!$G$117
Name Basiskosten_iL: '[1]5. Gesamt'!$G$117
Name Basiskosten_iL: '[1]5. Gesamt'!$G$117
Name Basiskosten_iL: '[1]5. Gesamt'!$G$117
Name Basiskosten_iL: '[1]5. Gesamt'!$G$117
Name Basiskosten_iL: '5. Gesamt'!$G$173
Name bisherige_Abrechnung: '[1]5. Gesamt'!$L$5
Name bisherige_Abrechnung: '[1]5. Gesamt'!$L$5
Name bisherige_Abrechnung: '[1]5. Gesamt'!$L$5
Name bisherige_Abrechnung: '[1]5. Gesamt'!$L$5
Name bisherige_Abrechnung: '[1]5. Gesamt'!$L$5
Name bisherige_Abrechnung: '5. Gesamt'!$L$5
Name CaritasQ1a: #REF!
Name CaritasQ1b: #REF!
Name CaritasQ2: #REF!
Name CaritasQ3: #REF!
Name CaritasQ4: #REF!
Name Diakonie_AVR_HNQ1a: #REF!
Name Diakonie_AVR_HNQ1b: #REF!
Name Diakonie_AVR_HNQ2: #REF!
Name Diakonie_AVR_HNQ3: #REF!
Name Diakonie_AVR_HNQ4: #REF!
Name DiakonieAVRDD_HN_JohanniterQ1a: #REF!
Name DiakonieAVRDD_HN_JohanniterQ1b: #REF!
Name DiakonieAVRDD_HN_JohanniterQ2: #REF!
Name DiakonieAVRDD_HN_JohanniterQ3: #REF!
Name DiakonieAVRDD_HN_JohanniterQ4: #REF!
Name DRKQ1a: #REF!
Name DRKQ1b: #REF!
Name DRKQ2: #REF!
Name DRKQ3: #REF!
Name DRKQ4: #REF!
Name Fachleistungsstundensatz: Listen!$I$3
Name FLS_kA: '[1]5. Gesamt'!$L$45
Name FLS_kA: '[1]5. Gesamt'!$L$45
Name FLS_kA: '[1]5. Gesamt'!$L$45
Name FLS_kA: '[1]5. Gesamt'!$L$45
Name FLS_kA: '[1]5. Gesamt'!$L$45
Name FLS_kA: '5. Gesamt'!$L$59
Name FLS_qA: '[1]5. Gesamt'!$L$44
Name FLS_qA: '[1]5. Gesamt'!$L$44
Name FLS_qA: '[1]5. Gesamt'!$L$44
Name FLS_qA: '[1]5. Gesamt'!$L$44
Name FLS_qA: '[1]5. Gesamt'!$L$44

Sheet Erläuterung
A2: Das angegebene Personal ist mit den jeweiligen Stellenanteilen dem Betreuungspersonal und/oder dem Zuschlag V2 SK/IK zuzuordnen
A4: Die prozentualen Anteile der Kosten für die Fachleistungsfläche sind je nach Angebotsform anzupassen (vgl. § 30 Abs. 3 LRV)
A5: Hinweis für die Leistungen in TS/TF und außerhalb besonderer Wohnformen: Für die Leistungen außerhalb besonderer Wohnformen sind die Prozentsätze im Kalkulationsblatt „V2 SK u. IK“ auf 100 % zu setzen.
A6: In der kalkulation der einzelnen Angebote sind nur die Kostenbestandteile des jeweiligen Angebotes zu berücksichtigen!
A9: Personalkosten
A10: Stellen in Vollzeitäquivalente (VZÄ)
A11: Diese Eingaben werden auf zwei Stellen nach dem Komma gerundet angegeben.
A12: Vollzeitbeschäftigte sind Mitarbeiter, denen für das ganze Jahr die Vergütung für die tariflich oder einzelvertraglich vereinbarte Arbeitszeit für eine volle Stelle gezahlt wurde. Sie sind mit dem Wert 1,0 (volle Stelle) nachzuweisen.
A13: Fremdpersonal wird je nach Funktion (Betreuung, Leitung/Verwaltung, Wirtschhaftspersonal) entsprechend abgebildet. Soweit ein zeitlicher Umfang der Arbeit festgelegt ist, ergibt sich das VK-Äquivalent daraus und können die Kosten der Fremdbeauftragung entsprechend zugeordnet werden. (Rechenbeispiel: ...) Wird ein Arbeitsergebnis vergütet, so ist das VK-Äquivalent anhand der Kosten der Fremdbeauftragung orientiert an den Kosten einer alternativ fest beschäftigten Kraft zu ermitteln. (Rechenbeispiel: ...)
A14: War für einen Mitarbeiter ein geringeres Jahresbrutto zu zahlen, als dies für eine Vollzeitbeschäftigung angefallen wäre, so ist er nur mit dem Vollzeitbeschäftigten-Bruchteil nachzuweisen, der dem Verhältnis seines tatsächlichen Beschäftigungsumfanges zu einer Vollzeitbeschäftigung entspricht (z.B. 0,5). Gründe hierfür können sein:
A15: - Teilzeitbeschäftigung,
A16: - Beginn oder Ende eines Arbeitsverhältnisses während des Betrachtungszeitraumes,
... A67: zum Verständnis: Auslastungs-/Gewinnkombination abweichend von 1,52%/2,48% (s.u.) individuell zu verhandeln; Risikoerhöhung/neue Risiken individuell zu verhandeln Die Vergütung wurde auf der Basis von Gestehungskosten und dann prospektiven Gesichtspunkten ermittelt. Nicht näher benannte operationelle Risiken In den zugrunde gelegten Gestehungskosten sind nicht näher benannte operationelle Risiken, die sich im Gestehungszeitraum realisiert haben, bereits berücksichtigt. 1. Überlegung Soweit erwartet wird, dass sich die Wirkung dieser Risiken im Vereinbarungszeitraum über allgemein (z.B. Inflation) angewandte prospektive Erwägungen hinaus verändern wird, so hat der Leistungserbringer dies gesondert und ausdrücklich dargelegt und wurde dies berücksichtigt. Neu berücksichtigte operationelle Risiken 2. Überlegung Es wurden im Übrigen folgende operationelle Risiken mit den ausgewiesenen Werten p.a. neu berücksichtigt: … ... Auslastungsrisiko als besonderes operationelles Risiko - Die Auslastung wurde pauschal mit 98,5 Prozent ohne Bezug zur Auslastung eines Gestehungszeitraumes vereinbart. Insofern beinhaltet diese eine Gewinnchance von bis zu 1,52 % und wird zur Berücksichtigung von Wagnis/Gewinnchance ein Wert von 2,48% pauschal berücksichtigt. oder 3. Überlegung - Die Auslastung wurde auf der Basis der nachgewiesenen Auslastung im Gestehungszeitraum der drei letzten Jahre und prospektiver Erwägungen mit …% vereinbart. Zur Berücksichtigung von Wagnis/Gewinnchance wurde ein Wert von 4% pauschal berücksichtigt. Darüber hinaus enthält die Kalkulation keine Elemente in denen erkennbar Wagnis/Gewinnchance berücksichtigt sind.

Sheet 1. Übersicht
A1: Aktenzeichen LSJV:
A2: Name des Angebots:
A3: Träger des Angebots:
A4: angewandter Tarif: | B4: In den Tabellenblättern 2.bis 2b. jeweils beim Personal angeben
A5: Name Ansprechpartner Anbieter:
A6: Tel.:
A7: e-mail:
B9: Plätze/Klienten: | C9: =Klienten -> 0 | E9: Anzahl | G9: ='5. Gesamt'!G5 -> Wählen Sie das Modul aus. Je Modul ist eine gesonderte Datei zu erstellen!
B10: Auslastung: | C10: =Auslastung -> 0 | E10: % | G10: ='5. Gesamt'!L5 -> Bitte auswählen:
C12: EUR | E12: VK | G12: Phase 1 | H12: Phase 2 | I12: Plausi
A13: TS | B13: ="Basisleistung "&'5. Gesamt'!B16 -> Basisleistung Bitte auswählen, wenn zutreffend oder eingeben. | C13: ='5. Gesamt'!C28 | D13: TS | E13: ='5. Gesamt'!D26 -> 0 | G13: =C13*(Tage_nach_Auslastung*Klienten) -> #VALUE! | H13: =C13*(Tage_nach_Auslastung*Klienten) -> #VALUE! | I13: ='5. Gesamt'!I87 -> #VALUE!
B14: ="Basisleistung "&'5. Gesamt'!F16 -> Basisleistung Bitte auswählen, wenn zutreffend oder eingeben. | C14: ='5. Gesamt'!G28 | D14: TS | E14: ='5. Gesamt'!H26 -> 0 | G14: =C14*Tage_nach_Auslastung*Klienten -> #VALUE! | H14: =C14*Tage_nach_Auslastung*Klienten -> #VALUE! | I14: ='5. Gesamt'!I101 -> #VALUE!
B15: ="Basisleistung "&'5. Gesamt'!J16 -> Basisleistung Bitte auswählen, wenn zutreffend oder eingeben. | C15: ='5. Gesamt'!K28 | D15: TS | E15: ='5. Gesamt'!L26 -> 0 | G15: =C15*Tage_nach_Auslastung*Klienten -> #VALUE! | H15: =C15*Tage_nach_Auslastung*Klienten -> #VALUE! | I15: ='5. Gesamt'!I115 -> #VALUE!
B16: ="Basisleistung "&'5. Gesamt'!B30 -> Basisleistung Bitte auswählen, wenn zutreffend oder eingeben. | C16: ='5. Gesamt'!C42 | D16: TS | E16: ='5. Gesamt'!D40 -> 0 | G16: =C16*Tage_nach_Auslastung*Klienten -> #VALUE! | H16: =C16*Tage_nach_Auslastung*Klienten -> #VALUE! | I16: ='5. Gesamt'!I116 -> 0
B17: ="Basisleistung "&'5. Gesamt'!F30 -> Basisleistung Bitte auswählen, wenn zutreffend oder eingeben. | C17: ='5. Gesamt'!G42 | D17: TS | E17: ='5. Gesamt'!H40 -> 0 | G17: =C17*Tage_nach_Auslastung*Klienten -> #VALUE! | H17: =C17*Tage_nach_Auslastung*Klienten -> #VALUE! | I17: ='5. Gesamt'!I117 -> 0
B18: ="Basisleistung "&'5. Gesamt'!J30 -> Basisleistung Bitte auswählen, wenn zutreffend oder eingeben. | C18: ='5. Gesamt'!K42 | D18: TS | E18: ='5. Gesamt'!L40 -> 0 | G18: =C18*Tage_nach_Auslastung*Klienten -> #VALUE! | H18: =C18*Tage_nach_Auslastung*Klienten -> #VALUE! | I18: ='5. Gesamt'!I118 -> 0
B19: Basisleistung nn
B20: Basisleistung Individuelle Leistungen Leitung/Verwaltung/SK/IK: | C20: =IF(Modul=Modul_TS,0,Basiskosten_iL/Tage_nach_Auslastung/Klienten) -> #VALUE! | D20: TS | G20: =IF(bisherige_Abrechnung=Fachleistungsstundensatz,0,IF(bisherige_Abrechnung=Tagessatz,C20*(Tage_nach_Auslastung*Klienten),'5. Gesamt'!D58*'5. Gesamt'!L57*Auslastung)) -> 0 | H20: =IF(bisherige_Abrechnung=Fachleistungsstundensatz,0,IF(Modul=Modul_TS,0,IF(bisherige_Abrechnung=Tagessatz,Basiskosten_iL,'5. Gesamt'!L57*'5. Gesamt'!D58*Auslastung))) -> 0 | I20: =IF(bisherige_Abrechnung=Fachleistungsstundensatz,0,IF(Modul=Modul_TS,0,Basiskosten_iL)) -> #VALUE!
B21: Tagessatz Basisleistung je Belegungstag je Klient bzw. Platz gesamt: | C21: =SUM(C13:C20) -> #VALUE! | D21: TS | G21: =SUM(G13:G20) -> #VALUE! | H21: =SUM(H13:H20) -> #VALUE! | I21: =SUM(I13:I20) -> #VALUE!
B23: ="Tage je Klient p.a.: "&'5. Gesamt'!D10&" (vgl. Ihre Eingabe '5. Gesamt' Zelle D10)" -> Tage je Klient p.a.: (vgl. Ihre Eingabe '5. Gesamt' Zelle D10)
A25: TS | B25: Tagessatz individuelle Leistung (Assistenzpersonal) | C25: =IF('5. Gesamt'!F57=0,'5. Gesamt'!K174,'5. Gesamt'!F172/Tage_nach_Auslastung/Klienten) -> 0 | D25: TS | E25: {='5. Gesamt'!D57:E57} -> 0 | F25: 0 | G25: =IF(Modul=Modul_TS,0,IF(bisherige_Abrechnung=Tagessatz,C25*Tage_nach_Auslastung*Klienten,0)) -> 0 | H25: 0 | I25: =IF(Modul=Modul_TS,0,IF(bisherige_Abrechnung=Tagessatz,'5. Gesamt'!F172,0)) -> 0
B28: {="FLS p.a. gesamt: "&'5. Gesamt'!D58:E58} -> FLS p.a. gesamt: 0 | C28: FLS p.a. gesamt:
A31: FLS | B31: Fachleistungsstundensatz qualifizierende Assistenz 60 Minuten (qA):
B32: Basisleistung (bei Abrechnung als Tagessatz auf Basis Menge der FLS umzurechnen) | C32: ='5. Gesamt'!L57 -> 0 | D32: FLS | G32: =IF(G10=Fachleistungsstundensatz,C32*h_pa_qA*Auslastung,IF(Modul=Modul_TS,C32*h_pa_qA*Auslastung,0)) -> 0 | H32: =IF(Modul=Modul_Wohnen,IF(bisherige_Abrechnung=Tagessatz,0,C32*h_pa_qA*Auslastung),C32*h_pa_qA*Auslastung) -> 0 | I32: =IF(I20>0,0,Basiskosten_iL) -> #VALUE!
B33: Betreuungsleistung | C33: ='5. Gesamt'!L58 -> 0 | D33: FLS | G33: =IF(G10=Fachleistungsstundensatz,C33*h_pa_qA*Auslastung,IF(Modul=Modul_TS,C33*h_pa_qA*Auslastung,0)) -> 0 | H33: =C33*h_pa_qA*Auslastung -> 0 | I33: =IF(I25>0,0,'5. Gesamt'!F172) -> #VALUE!
B34: Gesamt | C34: =C32+C33 -> 0 | D34: FLS
B35: Fachleistungsstundensatz kompensatorische Assistenz 60 Minuten (kA):
B36: Basisleistung (bei Abrechnung als Tagessatz auf Basis Menge der FLS umzurechnen) | C36: ='5. Gesamt'!L57 -> 0 | D36: FLS | G36: =IF(G10=Fachleistungsstundensatz,C36*h_pa_kA*Auslastung,IF(Modul=Modul_TS,C36*h_pa_kA*Auslastung,0)) -> 0 | H36: =IF(Modul=Modul_Wohnen,IF(bisherige_Abrechnung=Tagessatz,0,C36*h_pa_kA*Auslastung),C36*h_pa_kA*Auslastung) -> 0 | I36: 0
B37: Betreuungsleistung | C37: =FLS_kA -> 0 | D37: FLS | G37: =IF(G10=Fachleistungsstundensatz,C37*h_pa_kA*Auslastung,IF(Modul=Modul_TS,C37*h_pa_kA*Auslastung,0)) -> 0 | H37: =C37*h_pa_kA*Auslastung -> 0 | I37: ='5. Gesamt'!F175 -> 0
B38: Gesamt | C38: =C36+C37 -> 0 | D38: FLS
G39: =SUM(G32:G37) -> 0 | H39: =SUM(H32:H37) -> 0 | I39: =SUM(I32:I37) -> #VALUE!
J41: Differenz:
G42: =G21+G25+G39 -> #VALUE! | H42: =H21+H25+H39 -> #VALUE! | I42: ='5. Gesamt'!I176 -> #VALUE! | J42: =I42-G42 -> #VALUE!

Sheet 2. Betreuungspersonal
A2: Bruttopersonalkosten - Gestehungskosten im Kalenderjahr vor Verhandlungsaufforderung (vgl. § 11 Abs.2 Satz 2 LRV)
B3: Q1a | C3: Q1b | D3: Q2 | E3: Q3 | F3: Q4 | G3: Summe | H3: Probe
A4: Ø Bruttopersonalkosten | B4: =(SUMIF($E$16:$E$253,"Q1a",$J$16:$J$253))/B5+(SUMIF($F$16:$F$253,"Q1a",$J$16:$J$253))/B5 -> #DIV/0! | C4: =(SUMIF($E$16:$E$253,"Q1b",$J$16:$J$253))/C5+(SUMIF($F$16:$F$253,"Q1b",$J$16:$J$253))/C5 -> #DIV/0! | D4: =(SUMIF($E$16:$E$253,"Q2",$J$16:$J$253))/D5+(SUMIF($F$16:$F$253,"Q2",$J$16:$J$253))/D5 -> #DIV/0! | E4: =(SUMIF($E$16:$E$253,"Q3",$J$16:$J$253))/E5+(SUMIF($F$16:$F$253,"Q3",$J$16:$J$253))/E5 -> #DIV/0! | F4: =(SUMIF($E$16:$E$253,"Q4",$J$16:$J$253))/F5+(SUMIF($F$16:$F$253,"Q4",$J$16:$J$253))/F5 -> #DIV/0! | G4: =(B4*B5)+(C4*C5)+(D4*D5)+(E4*E5)+(F5*F4) -> #DIV/0! | H4: =SUM($J$14:$J$251) -> 0
A5: VZÄ | B5: =SUMIF($E$16:$G$253,"Q1a",$G$16:$G$253)+SUMIF($F$16:$F$253,"Q1a",$G$16:$G$253) -> 0 | C5: =SUMIF($E$16:$G$253,"Q1b",$G$16:$G$253)+SUMIF($F$16:$F$253,"Q1b",$G$16:$G$253) -> 0 | D5: =SUMIF($E$16:$G$253,"Q2",$G$16:$G$253)+SUMIF($F$16:$F$253,"Q2",$G$16:$G$253) -> 0 | E5: =SUMIF($E$16:$G$253,"Q3",$G$16:$G$253)+SUMIF($F$16:$F$253,"Q3",$G$16:$G$253) -> 0 | F5: =SUMIF($E$16:$G$253,"Q4",$G$16:$G$253)+SUMIF($F$16:$F$253,"Q4",$G$16:$G$253) -> 0 | G5: =SUM(B5:F5) -> 0 | H5: =SUM(G14:G251) -> 0
H6: =H4-G4 -> #DIV/0!
C7: Bruttopersonalkosten - prospektive jährliche Kosten
B8: Q1a | C8: Q1b | D8: Q2 | E8: Q3 | F8: Q4 | G8: Summe | H8: Probe
A9: Ø Bruttopersonalkosten | B9: =SUMIF($E$16:$E$253,B8,$N$16:$N$253)/B10+SUMIF($F$16:$F$253,B8,$N$16:$N$253)/B10 -> #DIV/0! | C9: =SUMIF($E$16:$E$253,C8,$N$16:$N$253)/C10+SUMIF($F$16:$F$253,C8,$N$16:$N$253)/C10 -> #DIV/0! | D9: =SUMIF($E$16:$E$253,D8,$N$16:$N$253)/D10+SUMIF($F$16:$F$253,D8,$N$16:$N$253)/D10 -> #DIV/0! | E9: =SUMIF($E$16:$E$253,E8,$N$16:$N$253)/E10+SUMIF($F$16:$F$253,E8,$N$16:$N$253)/E10 -> #DIV/0! | F9: =SUMIF($E$16:$E$253,F8,$N$16:$N$253)/F10+SUMIF($F$16:$F$253,F8,$N$16:$N$253)/F10 -> #DIV/0! | G9: =(B9*B10)+(C9*C10)+(D9*D10)+(E9*E10)+(F9*F10) -> #DIV/0! | H9: =SUM($N$16:$N$251) -> 0
A10: VZÄ | B10: =SUMIF($E$16:$E$253,"Q1a",$K$16:$K$253)+SUMIF($F$16:$F$253,"Q1a",$K$16:$K$253) -> 0 | C10: =SUMIF($E$16:$E$253,"Q1b",$K$16:$K$253)+SUMIF($F$16:$F$253,"Q1b",$K$16:$K$253) -> 0 | D10: =SUMIF($E$16:$E$253,"Q2",$K$16:$K$253)+SUMIF($F$16:$F$253,"Q2",$K$16:$K$253) -> 0 | E10: =SUMIF($E$16:$E$253,"Q3",$K$16:$K$253)+SUMIF($F$16:$F$253,"Q3",$K$16:$K$253) -> 0 | F10: =SUMIF($E$16:$E$253,"Q4",$K$16:$K$253)+SUMIF($F$16:$F$253,"Q4",$K$16:$K$253) -> 0 | G10: =SUM(B10:F10) -> 0 | H10: =SUM(K14:K251) -> 0
H11: =H9-G9 -> #DIV/0!
C13: Von dem hier berücksichtigten Personal werden mit dem genannten Stellenanteil Assistenzleistungen erbracht
C14: Übernahme aus Standardkalkulation | G14: Gestehungskosten im Kalenderjahr vor Verhandlungsaufforderung (vgl. § 11 Abs.2 Satz 2 LRV) | K14: prospektive jährliche Kosten
A15: Stellen-/ Personalnr. - Eingabe - | B15: Kategorie | C15: Tätigkeit | D15: Tarif | E15: Q-Gruppe Katalog- tätigkeiten | F15: Q-Gruppe - manuelle Eingabe - | G15: Stellenanteil | H15: Eingruppierung | I15: Erfahrungsstufe | J15: Bruttopersonalkosten | K15: Stellenanteil | L15: Eingruppierung | M15: Erfahrungsstufe | N15: Bruttopersonalkosten | O15: Erläuterungen
E16: =IFERROR(INDEX(Listen!$B$1:$B$38,MATCH(B16,Listen!$A$1:$A$38,0),1),"")
E17: =IFERROR(INDEX(Listen!$B$1:$B$38,MATCH(B17,Listen!$A$1:$A$38,0),1),"")
E18: =IFERROR(INDEX(Listen!$B$1:$B$38,MATCH(B18,Listen!$A$1:$A$38,0),1),"")
E19: =IFERROR(INDEX(Listen!$B$1:$B$38,MATCH(B19,Listen!$A$1:$A$38,0),1),"")
E20: =IFERROR(INDEX(Listen!$B$1:$B$38,MATCH(B20,Listen!$A$1:$A$38,0),1),"")
E21: =IFERROR(INDEX(Listen!$B$1:$B$38,MATCH(B21,Listen!$A$1:$A$38,0),1),"")
E22: =IFERROR(INDEX(Listen!$B$1:$B$38,MATCH(B22,Listen!$A$1:$A$38,0),1),"")
E23: =IFERROR(INDEX(Listen!$B$1:$B$38,MATCH(B23,Listen!$A$1:$A$38,0),1),"")
E24: =IFERROR(INDEX(Listen!$B$1:$B$38,MATCH(B24,Listen!$A$1:$A$38,0),1),"")
E25: =IFERROR(INDEX(Listen!$B$1:$B$38,MATCH(B25,Listen!$A$1:$A$38,0),1),"")
E26: =IFERROR(INDEX(Listen!$B$1:$B$38,MATCH(B26,Listen!$A$1:$A$38,0),1),"")
E27: =IFERROR(INDEX(Listen!$B$1:$B$38,MATCH(B27,Listen!$A$1:$A$38,0),1),"")
... E253: =IFERROR(INDEX(Listen!$B$1:$B$38,MATCH(B253,Listen!$A$1:$A$38,0),1),"")
G255: =SUM(G16:G253) -> 0 | J255: =SUM(J16:J253) -> 0 | K255: =SUM(K16:K253) -> 0 | N255: =SUM(N16:N169) -> 0

Sheet 2a. V1 LTG_VW
A2: Gestehungskosten im Kalenderjahr vor Verhandlungsaufforderung (vgl. § 11 Abs.2 Satz 2 LRV)
B3: Leitung | C3: Verwaltung | D3: Summe | E3: Probe
A4: Ø PK AG brutto | B4: =(H49-(C4*C5))/B5 -> #DIV/0! | C4: =SUMIF($C$15:$C$47,C3,$H$15:$H$47)/C5 -> #DIV/0! | D4: =(B4*B5)+(C4*C5) -> #DIV/0! | E4: =H49 -> 0
A5: VZÄ | B5: =E49-C5 -> 0 | C5: =SUMIF(C15:C47,C3,E15:E47) -> 0
A7: prospektive jährliche Kosten
B8: Leitung | C8: Verwaltung | D8: Summe | E8: Probe
A9: Ø PK AG brutto | B9: =(L49-(C9*C10))/B10 -> #DIV/0! | C9: =SUMIF($C$15:$C$47,C8,$L$15:$L$47)/C10 -> #DIV/0! | D9: =(B9*B10)+(C9*C10) -> #DIV/0! | E9: =L49 -> 0
A10: VZÄ | B10: =I49-C10 -> 0 | C10: =SUMIF(C15:C47,C8,I15:I47) -> 0
E13: Gestehungskosten im Kalenderjahr vor Verhandlungsaufforderung (vgl. § 11 Abs.2 Satz 2 LRV) | I13: prospektive jährliche Kosten
A14: Stellen-/ Personalnr. - Eingabe - | B14: Kategorie | C14: Tätigkeit | D14: Tarif | E14: Stellenanteil | F14: Gruppe | G14: Stufe | H14: Brutto- personal- kosten | I14: Stellenanteil | J14: Gruppe | K14: Stufe | L14: Brutto- personal- kosten | M14: Erläuterungen
A49: Im Angebot | E49: =SUM(E15:E47) -> 0 | H49: =SUM(H15:H47) -> 0 | I49: =SUM(I15:I47) -> 0 | L49: =SUM(L15:L31) -> 0
A50: Umlagefinanzierte Personalkosten (zB Zentralverwaltung) | I50: =I49/L49*L50 -> #DIV/0! | J50: fiktiv
H51: =H49+H50 -> 0 | I51: =I49+I50 -> #DIV/0! | L51: =L49+L50 -> 0

Sheet 2b. V2 SK u. IK
B2: Gestehungskosten im Kalenderjahr vor Verhandlungsaufforderung (vgl. § 11 Abs.2 Satz 2 LRV) | C2: prospektive jährliche Kosten | D2: Prozentuale Berücksichtigung im Vergütungssatz der Fachleistung | E2: Im Vergütungssatz der Fachleistung berücksichtigte Kosten
A4: a) Medizinischer Bedarf | E4: =C4*D4 -> 0
A6: b) Wasser, Energie, Brennstoffe | B6: =SUM(B7:B9) -> 0 | C6: =SUM(C7:C9) -> 0 | E6: =SUM(E7:E9) -> 0
A7: Wasser, Abwasser und Oberflächenwasser | E7: =C7*D7 -> 0
A8: Strom | E8: =C8*D8 -> 0
A9: Brennstoffe | E9: =C9*D9 -> 0
A11: c) Wirtschaftsbedarf | B11: =SUM(B12:B17) -> 0 | C11: =SUM(C12:C17) -> 0 | E11: =SUM(E12:E17) -> 0
A12: Reinigungs- und Putzmittel | E12: =C12*D12 -> 0
A13: Pflege Außenanlage | E13: =C13*D13 -> 0
A14: Toilettenartikel | E14: =C14*D14 -> 0
A15: Treibstoffe und Schmiermittel | E15: =C15*D15 -> 0
A16: sonstige Kfz-Kosten | E16: =C16*D16 -> 0
A17: sonst. Wirtschaftsbedarf | E17: =C17*D17 -> 0
A19: d) Outgesourcte/zentrale Dienstleistungen (siehe Zeile 74 ff.) | B19: =H89 -> 0 | C19: =L89 -> 0 | E19: =C19*D19 -> 0
A21: e) Betreuungsaufwand | B21: =SUM(B22:B23) -> 0 | C21: =SUM(C22:C23) -> 0 | E21: =SUM(E22:E23) -> 0
A22: kultureller Aufwand | E22: =C22*D22 -> 0
A23: Beschäftigungsmaterial | E23: =C23*D23 -> 0
A25: f) Verwaltungsbedarf | B25: =SUM(B26:B38) -> 0 | C25: =SUM(C26:C38) -> 0 | E25: =SUM(E26:E38) -> 0
A26: Trägerumlage Sachkosten (siehe Zeile 107 ff.) | B26: =C120 -> 0 | C26: =F120 -> 0 | E26: =C26*D26 -> 0
A27: Internet / Telefon / Anschlussgebühren etc. | E27: =C27*D27 -> 0
A28: Büro- und Verwaltungsbedarf | E28: =C28*D28 -> 0
A29: IT-Kosten (ohne Hardware), Software, Gebühren, Lizenzen, etc.) | E29: =C29*D29 -> 0
A30: externe | E30: =C30*D30 -> 0
A31: Portokosten | E31: =C31*D31 -> 0
A32: Reisekosten (keine Fortbildung) | E32: =C32*D32 -> 0
A33: Personalbeschaffungskosten | E33: =C33*D33 -> 0
A34: Aus- , Fort- und Weiterbildung | E34: =C34*D34 -> 0
A35: BG, Arbeitsschutz | E35: =C35*D35 -> 0
A36: sonst. Verwaltungsbedarf | E36: =C36*D36 -> 0
A37: Umlagen an Verbände | E37: =C37*D37 -> 0
A38: Mitgliedsbeträge | E38: =C38*D38 -> 0
A40: g) Steuern, Abgaben, Versicherungen | B40: =SUM(B41:B42) -> 0 | C40: =SUM(C41:C42) -> 0 | E40: =SUM(E41:E42) -> 0
A41: Gebäudekosten (Steuern, Versicherung, Gebühren) | E41: =C41*D41 -> 0
A42: sonst. Steuern, Abgaben, Versicherungen | E42: =C42*D42 -> 0
A44: h) Miete und Pacht | B44: =SUM(B45:B51) -> 0 | C44: =SUM(C45:C51) -> 0 | E44: =SUM(E45:E51) -> 0
A45: Miete Betriebsgebäude | E45: =C45*D45 -> 0
A46: Miete technische Geräte | E46: =C46*D46 -> 0
A47: Miete Mobiliar | E47: =C47*D47 -> 0
A48: Pacht Grundstück | E48: =C48*D48 -> 0
A49: Erbbauzinsen | E49: =C49*D49 -> 0
...

Sheet 3a. Vorhalt Tag
D1: Vorhalt Tagespräsenz
E3: Schicht 1
A5: h 1 VK p.a.: | B5: 1250 | D5: Bitte Bedarf (Tage p.a. und Mitarbeiter je Schicht) kurz erläutern.
A6: Tage p.a.:
A7: MA gleichzeitig in dieser Schicht:
A8: entspricht Schlüssel zu Klient: | B8: ="1:"&Klienten/'3a. Vorhalt Tag'!B7 -> #DIV/0! | C8: nach- richtlich
B10: Mo | C10: Di | D10: Mi | E10: Do | F10: Fr | G10: Sa | H10: So | I10: Summe
A11: von | J11: hh:mm | K11: =COUNTIF(B11:H11,"<>") -> 0
A12: bis | J12: hh:mm
A13: Stunden | B13: =B12-B11 -> 0 | C13: =C12-C11 -> 0 | D13: =D12-D11 -> 0 | E13: =E12-E11 -> 0 | F13: =F12-F11 -> 0 | G13: =G12-G11 -> 0 | H13: =H12-H11 -> 0 | I13: =SUM(B13:H13) -> 0 | J13: h/Woche
I14: =IFERROR(ROUND(I13/K11*$B$6*24/$B$5,2)*B7,0) -> 0 | J14: VK-Bedarf
E16: Schicht 2
A18: h 1 VK p.a.: | B18: 1250 | D18: Bitte Bedarf (Tage p.a. und Mitarbeiter je Schicht) kurz erläutern.
A19: Tage p.a.:
A20: MA gleichzeitig in dieser Schicht:
A21: entspricht Schlüssel zu Klient: | B21: ="1:"&Klienten/'3a. Vorhalt Tag'!B20 -> #DIV/0! | C21: nach- richtlich
B23: Mo | C23: Di | D23: Mi | E23: Do | F23: Fr | G23: Sa | H23: So | I23: Summe
A24: von | J24: hh:mm | K24: =COUNTIF(B24:H24,"<>") -> 0
A25: bis | J25: hh:mm
A26: Stunden | B26: =B25-B24 -> 0 | C26: =C25-C24 -> 0 | D26: =D25-D24 -> 0 | E26: =E25-E24 -> 0 | F26: =F25-F24 -> 0 | G26: =G25-G24 -> 0 | H26: =H25-H24 -> 0 | I26: =SUM(B26:H26) -> 0 | J26: h/Woche
I27: =IFERROR(ROUND(I26/K24*$B$19*24/$B$18,2)*B20,0) -> 0 | J27: VK-Bedarf
E29: Schicht 3
A31: h 1 VK p.a.: | B31: 1250 | D31: Bitte Bedarf (Tage p.a. und Mitarbeiter je Schicht) kurz erläutern.
A32: Tage p.a.:
A33: MA gleichzeitig in dieser Schicht:
A34: entspricht Schlüssel zu Klient: | B34: ="1:"&Klienten/'3a. Vorhalt Tag'!B33 -> #DIV/0! | C34: nach- richtlich
B36: Mo | C36: Di | D36: Mi | E36: Do | F36: Fr | G36: Sa | H36: So | I36: Summe
A37: von | J37: hh:mm | K37: =COUNTIF(B37:H37,"<>") -> 0
A38: bis | J38: hh:mm
A39: Stunden | B39: =B38-B37 -> 0 | C39: =C38-C37 -> 0 | D39: =D38-D37 -> 0 | E39: =E38-E37 -> 0 | F39: =F38-F37 -> 0 | G39: =G38-G37 -> 0 | H39: =H38-H37 -> 0 | I39: =SUM(B39:H39) -> 0 | J39: h/Woche
I40: =IFERROR(ROUND(I39/K37*$B$32*24/$B$31,2)*B33,0) -> 0 | J40: VK-Bedarf
E42: Schicht 4
A44: h 1 VK p.a.: | B44: 1250 | D44: Bitte Bedarf (Tage p.a. und Mitarbeiter je Schicht) kurz erläutern.
A45: Tage p.a.:
A46: MA gleichzeitig in dieser Schicht:
A47: entspricht Schlüssel zu Klient: | B47: ="1:"&Klienten/'3a. Vorhalt Tag'!B46 -> #DIV/0! | C47: nach- richtlich
B49: Mo | C49: Di | D49: Mi | E49: Do | F49: Fr | G49: Sa | H49: So | I49: Summe
A50: von | J50: hh:mm | K50: =COUNTIF(B50:H50,"<>") -> 0
A51: bis | J51: hh:mm
A52: Stunden | B52: =B51-B50 -> 0 | C52: =C51-C50 -> 0 | D52: =D51-D50 -> 0 | E52: =E51-E50 -> 0 | F52: =F51-F50 -> 0 | G52: =G51-G50 -> 0 | H52: =H51-H50 -> 0 | I52: =SUM(B52:H52) -> 0 | J52: h/Woche
...

Sheet 3b. Vorhalt NachtWach
D1: Vorhalt Nachtwache
E3: Schicht 1
A5: h 1 VK p.a.: | B5: 1250 | D5: Bitte Bedarf (Tage p.a. und Mitarbeiter je Schicht) kurz erläutern.
A6: Tage p.a.:
A7: MA gleichzeitig in dieser Schicht:
A8: entspricht Schlüssel zu Klient: | B8: ="1:"&Klienten/'3b. Vorhalt NachtWach'!B7 -> #DIV/0! | C8: nach- richtlich
B10: Mo | C10: Di | D10: Mi | E10: Do | F10: Fr | G10: Sa | H10: So | I10: Summe
A11: von | J11: hh:mm | K11: =COUNTIF(B11:H11,"<>") -> 0
A12: bis | J12: hh:mm
A13: Stunden | B13: =MOD(B12-B11,1) -> 0 | C13: =MOD(C12-C11,1) -> 0 | D13: =MOD(D12-D11,1) -> 0 | E13: =MOD(E12-E11,1) -> 0 | F13: =MOD(F12-F11,1) -> 0 | G13: =MOD(G12-G11,1) -> 0 | H13: =MOD(H12-H11,1) -> 0 | I13: =SUM(B13:H13) -> 0 | J13: h/Woche
I14: =ROUND(I13/K11*$B$6*24/$B$5,2)*B7 -> #DIV/0! | J14: VK-Bedarf
E16: Schicht 2
A18: h 1 VK p.a.: | B18: 1250 | D18: Bitte Bedarf (Tage p.a. und Mitarbeiter je Schicht) kurz erläutern.
A19: Tage p.a.:
A20: MA gleichzeitig in dieser Schicht:
A21: entspricht Schlüssel zu Klient: | B21: ="1:"&Klienten/'3b. Vorhalt NachtWach'!B20 -> #DIV/0! | C21: nach- richtlich
B23: Mo | C23: Di | D23: Mi | E23: Do | F23: Fr | G23: Sa | H23: So | I23: Summe
A24: von | J24: hh:mm | K24: =COUNTIF(B24:H24,"<>") -> 0
A25: bis | J25: hh:mm
A26: Stunden | B26: =MOD(B25-B24,1) -> 0 | C26: =MOD(C25-C24,1) -> 0 | D26: =MOD(D25-D24,1) -> 0 | E26: =MOD(E25-E24,1) -> 0 | F26: =MOD(F25-F24,1) -> 0 | G26: =MOD(G25-G24,1) -> 0 | H26: =MOD(H25-H24,1) -> 0 | I26: =SUM(B26:H26) -> 0 | J26: h/Woche
I27: =IFERROR(ROUND(I26/K24*$B$6*24/$B$5,2)*B20,0) -> 0 | J27: VK-Bedarf
E30: Summe
I32: =I14+I27 -> #DIV/0! | J32: Summe

Sheet 3c. Vorhalt NachtBereit
E1: Vorhalt Nachtbereitschaft
F3: Schicht 1
A5: h 1 VK p.a.: | B5: 1250 | D5: Bitte Bedarf (Tage p.a. und Mitarbeiter je Schicht) kurz erläutern.
A6: Tage p.a.:
A7: MA je Schicht:
A8: entspricht Schlüssel zu Klient: | B8: ="1:"&Klienten/'3c. Vorhalt NachtBereit'!B7 -> #DIV/0! | C8: nach- richtlich
A9: Berücksichtigung zu …%: | B9: 0.5 | C9: höhere Werte tarif- individuell verhandelbar
B11: Mo | C11: Di | D11: Mi | E11: Do | F11: Fr | G11: Sa | H11: So | I11: Summe
A12: von | J12: hh:mm | K12: =COUNTIF(B12:H12,"<>") -> 0
A13: bis | J13: hh:mm
A14: Stunden | B14: =MOD(B13-B12,1) -> 0 | C14: =MOD(C13-C12,1) -> 0 | D14: =MOD(D13-D12,1) -> 0 | E14: =MOD(E13-E12,1) -> 0 | F14: =MOD(F13-F12,1) -> 0 | G14: =MOD(G13-G12,1) -> 0 | H14: =MOD(H13-H12,1) -> 0 | I14: =SUM(B14:H14) -> 0 | J14: h/Woche
I15: =ROUND(I14/K12*Tage_pa*24/B5,2)*B7*B9 -> #DIV/0! | J15: VK-Bedarf
F17: Schicht 2
A19: h 1 VK p.a.: | B19: 1250 | D19: Bitte Bedarf (Tage p.a. und Mitarbeiter je Schicht) kurz erläutern.
A20: Tage p.a.:
A21: MA je Schicht:
A22: entspricht Schlüssel zu Klient: | B22: ="1:"&Klienten/'3c. Vorhalt NachtBereit'!B21 -> #DIV/0! | C22: nach- richtlich
A23: Berücksichtigung zu …%: | B23: 0.5 | C23: höhere Werte tarif- individuell verhandelbar
B25: Mo | C25: Di | D25: Mi | E25: Do | F25: Fr | G25: Sa | H25: So | I25: Summe
A26: von | J26: hh:mm | K26: =COUNTIF(B26:H26,"<>") -> 0
A27: bis | J27: hh:mm
A28: Stunden | B28: =MOD(B27-B26,1) -> 0 | C28: =MOD(C27-C26,1) -> 0 | D28: =MOD(D27-D26,1) -> 0 | E28: =MOD(E27-E26,1) -> 0 | F28: =MOD(F27-F26,1) -> 0 | G28: =MOD(G27-G26,1) -> 0 | H28: =MOD(H27-H26,1) -> 0 | I28: =SUM(B28:H28) -> 0 | J28: h/Woche
I29: =IFERROR(ROUND(I28/K26*B20*24/B19,2)*B21*B23,0) -> 0 | J29: VK-Bedarf
F32: Summe
I34: =I15+I29 -> #DIV/0! | J34: Summe

Sheet 3d. Vorhalt Sonder Ruf-Bereit
D1: Sonderregelungen Ruf-Bereitschaft
F3: Schicht 1
A5: h 1 VK p.a.: | B5: 1250 | D5: Bitte Bedarf (Tage p.a., Mitarbeiter je Schicht, %-Wert) kurz erläutern.
A6: Tage p.a.:
A7: MA je Schicht:
A8: entspricht Schlüssel zu Klient: | B8: ="1:"&Klienten/'3d. Vorhalt Sonder Ruf-Bereit'!B7 -> #DIV/0! | C8: nach- richtlich
A9: Berücksichtigung zu …%:
B11: Mo | C11: Di | D11: Mi | E11: Do | F11: Fr | G11: Sa | H11: So | I11: Summe
A12: von | J12: hh:mm | K12: =COUNTIF(B12:H12,"<>") -> 0
A13: bis | J13: hh:mm
A14: Stunden | B14: =MOD(B13-B12,1) -> 0 | C14: =MOD(C13-C12,1) -> 0 | D14: =MOD(D13-D12,1) -> 0 | E14: =MOD(E13-E12,1) -> 0 | F14: =MOD(F13-F12,1) -> 0 | G14: =MOD(G13-G12,1) -> 0 | H14: =MOD(H13-H12,1) -> 0 | I14: =SUM(B14:H14) -> 0 | J14: h/Woche
I15: =ROUND(I14/K12*Tage_pa*24/B5,2)*B7*B9 -> #DIV/0! | J15: VK-Bedarf
F17: Schicht 2
A19: h 1 VK p.a.: | B19: 1250 | D19: Bitte Bedarf (Tage p.a., Mitarbeiter je Schicht, %-Wert) kurz erläutern.
A20: Tage p.a.:
A21: MA je Schicht:
A22: entspricht Schlüssel zu Klient: | B22: ="1:"&Klienten/'3d. Vorhalt Sonder Ruf-Bereit'!B21 -> #DIV/0! | C22: nach- richtlich
A23: Berücksichtigung zu …%:
B25: Mo | C25: Di | D25: Mi | E25: Do | F25: Fr | G25: Sa | H25: So | I25: Summe
A26: von | J26: hh:mm | K26: =COUNTIF(B26:H26,"<>") -> 0
A27: bis | J27: hh:mm
A28: Stunden | B28: =MOD(B27-B26,1) -> 0 | C28: =MOD(C27-C26,1) -> 0 | D28: =MOD(D27-D26,1) -> 0 | E28: =MOD(E27-E26,1) -> 0 | F28: =MOD(F27-F26,1) -> 0 | G28: =MOD(G27-G26,1) -> 0 | H28: =MOD(H27-H26,1) -> 0 | I28: =SUM(B28:H28) -> 0 | J28: h/Woche
I29: =IFERROR(ROUND(I28/K26*B20*24/B19,2)*B21*B23,0) -> 0 | J29: VK-Bedarf
F32: Summe
I34: =I15+I29 -> #DIV/0! | J34: Summe

Sheet 4. TG-TS-TF
E1: Tagesgruppe/-struktur/-förderung/-stätte
A3: h 1 VK p.a.: | B3: 1250
A4: Tage p.a.:
A5: Klienten je 1 VK:
A6: Plätze
B8: Mo | C8: Di | D8: Mi | E8: Do | F8: Fr | G8: Sa | H8: So | I8: Summe
A9: von
A10: bis
A11: Stunden | B11: =B10-B9 -> 0 | C11: =C10-C9 -> 0 | D11: =D10-D9 -> 0 | E11: =E10-E9 -> 0 | F11: =F10-F9 -> 0 | G11: =G10-G9 -> 0 | H11: =H10-H9 -> 0 | I11: =SUM(B11:H11) -> 0 | J11: h/Woche | K11: =COUNTIF(B11:F11,"< 0,25") -> 5
B12: =IF(K11 > 0,"Achtung!!! Die Öffnungszeit muss bei externer Tagestruktur an jedem Tag mindestens 6 h betragen!","") -> Achtung!!! Die Öffnungszeit muss bei externer Tagestruktur an jedem Tag mindestens 6 h betragen! | H12: nach- richtlich | I12: =Wochenstunden/5*Tage_p.a.*24/B3 -> 0 | J12: mindest VK-Bedarf gemäß Öffnungszeiten
H13: nach- richtlich | I13: =ROUND(I12*B5,0) -> 0 | J13: max. Klienten bei mindest-VK
I14: =IFERROR(B6/B5,0) -> 0 | J14: ="VK-Bedarf "&B6&" bei Plätzen" -> VK-Bedarf bei Plätzen

Sheet 5. Gesamt
B1: rötliche Felder: | C1: Standardwerte gemäß Vereinbarung der Parteien und teilweise regelmäßig (jährlich) anzupassen. Aufschläge V2 und I2 bei ambulant und bes WF 15%; bei TS/TF mindestens 15% und nach noch zu definierenden Standards auch höher möglich.
B2: gelbliche Felder: | C2: Hier angebotsindividuelle Angaben/Einträge erforderlich
C3: Bitte Kommentarbereich in der Spalte N beachten.
B5: Tarifcluster: | C5: ='1. Übersicht'!B4 -> In den Tabellenblättern 2.bis 2b. jeweils beim Personal angeben | F5: Modul: | G5: Wählen Sie das Modul aus. Je Modul ist eine gesonderte Datei zu erstellen! | K5: Abrechnung: | L5: Bitte auswählen:
F6: =IF(C5=#REF!,#REF!,IF(C5=#REF!,#REF!,IF(C5=#REF!,#REF!,IF(C5=#REF!,#REF!,IF(C5=#REF!,#REF!,IF(C5=#REF!,#REF!,IF(C5=#REF!,#REF!,IF(C5=#REF!,#REF!,#REF!)))))))) -> #REF!
B7: 1 VK p.a.: | C7: h | D7: 1250 | F7: 1 VK p.a. | G7: Q1a | H7: Q1b | I7: Q2 | J7: Q3 | K7: Q4
B8: Klienten: | C8: Anzahl | F8: EUR | G8: =MAX('5a. Kostenblatt'!F16,'5a. Kostenblatt'!J16:K16,'5a. Kostenblatt'!N16:O16) -> #VALUE! | H8: =MAX('5a. Kostenblatt'!F17,'5a. Kostenblatt'!J17:K17,'5a. Kostenblatt'!N17:O17) -> #VALUE! | I8: =MAX('5a. Kostenblatt'!F18,'5a. Kostenblatt'!J18:K18,'5a. Kostenblatt'!N18:O18) -> #VALUE! | J8: =MAX('5a. Kostenblatt'!F19,'5a. Kostenblatt'!J19:K19,'5a. Kostenblatt'!N19:O19) -> #VALUE! | K8: =MAX('5a. Kostenblatt'!F20,'5a. Kostenblatt'!J20:K20,'5a. Kostenblatt'!N20:O20) -> #VALUE!
B9: Wochen: | C9: Anzahl | F9: VK | G9: =D82+D96+D110+D167 -> 0 | H9: =D83+D97+D111+D168 -> 0 | I9: =D84+D98+D112+D169 -> 0 | J9: =D85+D99+D113+D170 -> 0 | K9: =D86+D100+D114+D171 -> 0 | L9: =SUM(G9:K9) -> 0
B10: Abrechnungstage/Klient: | C10: p.a. | F10: VK Spanne | G10: =IFERROR(D51*E51,0) -> 0 | H10: =D52*E52 -> #VALUE! | I10: =D53*E53 -> #VALUE! | J10: =D54*E54 -> 0 | K10: =D55*E55 -> 0 | L10: =SUM(G10:K10) -> #VALUE!
B11: Auslastung | F11: VK gesamt | G11: =G9+G10 -> 0 | H11: =H9+H10 -> #VALUE! | I11: =I9+I10 -> #VALUE! | J11: =J9+J10 -> 0 | K11: =K9+K10 -> 0 | L11: =SUM(G11:K11) -> #VALUE!
B12: Abrechnungstage: | C12: p.a. | D12: =D10*D11 -> 0
E14: Pauschale Leistungen (=Basisleistung = Tagessatz)
B16: Bitte auswählen, wenn zutreffend oder eingeben. | F16: Bitte auswählen, wenn zutreffend oder eingeben. | J16: Bitte auswählen, wenn zutreffend oder eingeben.
C18: nach- richtlich | G18: nach- richtlich | K18: nach- richtlich
C19: IST | D19: SOLL | G19: IST | H19: SOLL | K19: IST | L19: SOLL
C20: VK p.a. | D20: VK p.a. | G20: VK p.a. | H20: VK p.a. | K20: VK p.a. | L20: VK p.a.
B21: Q1a | F21: Q1a | J21: Q1a | N21: Die jeweilige Summe VK p.a. SOLL muss der Zahl entsprechen, die sich rechnerisch aus den Tabellenbättern "3a. Vorhalt Tag", "3b. Vorhalt NachtWach", "3c. Vorhalt NachtBereit", "3d. Vorhalt Sonder Ruf-Bereit", "TG-TS-TF" ergibt.
B22: Q1b | F22: Q1b | J22: Q1b
B23: Q2 | F23: Q2 | J23: Q2
B24: Q3 | F24: Q3 | J24: Q3
B25: Q4 | F25: Q4 | J25: Q4
B26: Summe | C26: =SUM(C21:C25) -> 0 | D26: =SUM(D21:D25) -> 0 | F26: Summe | G26: =SUM(G21:G25) -> 0 | H26: =SUM(H21:H25) -> 0 | J26: Summe | K26: =SUM(K21:K25) -> 0 | L26: =SUM(L21:L25) -> 0
B28: Tagessatz: | C28: =IFERROR(I87/(Klienten*Tage_nach_Auslastung),"") | F28: Tagessatz: | G28: =IFERROR(I101/(Klienten*Tage_nach_Auslastung),"") | J28: Tagessatz: | K28: =IFERROR(I115/(Klienten*Tage_nach_Auslastung),"")
B30: Bitte auswählen, wenn zutreffend oder eingeben. | F30: Bitte auswählen, wenn zutreffend oder eingeben. | J30: Bitte auswählen, wenn zutreffend oder eingeben.
C32: nach- richtlich | G32: nach- richtlich | K32: nach- richtlich
C33: IST | D33: SOLL | G33: IST | H33: SOLL | K33: IST | L33: SOLL
C34: VK p.a. | D34: VK p.a. | G34: VK p.a. | H34: VK p.a. | K34: VK p.a. | L34: VK p.a.
B35: Q1a | F35: Q1a | J35: Q1a | N35: Die jeweilige Summe VK p.a. SOLL muss der Zahl entsprechen, die sich rechnerisch aus den Tabellenbättern "3a. Vorhalt Tag", "3b. Vorhalt NachtWach", "3c. Vorhalt NachtBereit", "3d. Vorhalt Sonder Ruf-Bereit", "TG-TS-TF" ergibt.
B36: Q1b | F36: Q1b | J36: Q1b
B37: Q2 | F37: Q2 | J37: Q2
B38: Q3 | F38: Q3 | J38: Q3
B39: Q4 | F39: Q4 | J39: Q4
B40: Summe | C40: =SUM(C35:C39) -> 0 | D40: =SUM(D35:D39) -> 0 | F40: Summe | G40: =SUM(G35:G39) -> 0 | H40: =SUM(H35:H39) -> 0 | J40: Summe | K40: =SUM(K35:K39) -> 0 | L40: =SUM(L35:L39) -> 0
B42: Tagessatz: | C42: =IFERROR(I129/(Klienten*Tage_nach_Auslastung),"") | F42: Tagessatz: | G42: =IFERROR(I115/(Klienten*Tage_nach_Auslastung),"") | J42: Tagessatz: | K42: =IFERROR(I171/(Klienten*Tage_nach_Auslastung),"")
E44: individuelle Leistungen (ohne Vorhalteleistungen = pauschale Leistungen)
C46: nach- richtlich
C47: IST | G47: SOLL
D48: Gestehung prospektiv | E48: innerhalb Spanne | F48: qA qualifizie-rende Assistenz | G48: kA kompensa-torische Assistenz | H48: qA | I48: kA | J48: FLS-Satz | K48: innerhalb Spanne | N48: Berücksichtigen Sie bei IST VK p.a. das zu Einzelfallhilfen eingesetzte Personal mit - auch wenn bisher ggf. gesondert betrachtet/vergütet wurde.
C50: VK p.a. | D50: VK p.a. | E50: %+- | F50: % | G50: % | H50: VK p.a. | I50: VK p.a. | J50: EUR | K50: EUR
B51: Q1a | E51: Zellen werden für | H51: =D51*F51% -> 0 | I51: =D51*G51% -> 0 | J51: =I167/(D51*h_netto_1VKpa*Auslastung) -> #VALUE! | K51: Zellen werden | L51: je FLS Q1a | N51: =IF(D56>C56,"Sie planen zukünftig mit mehr Personal. Erläutern Sie im Anschreiben an das LSJV woraus sich der erhöhte Personalbedarf ergibt.","")
...

Sheet 5a. Kostenblatt
A1: KALKULATION Version 1.2
A3: Aktenzeichen LSJV: | B3: =IF('1. Übersicht'!B1<>0,'1. Übersicht'!B1,"") | J3: 1. Fortschreibung | L3: 2. Fortschreibung
A4: Name des Angebots: | B4: =IF('1. Übersicht'!B2<>0,'1. Übersicht'!B2,"") | H4: Aufteilung PK/SK | J4: Sachkostensteigerung | L4: Sachkostensteigerung
A5: Träger des Angebots: | B5: =IF('1. Übersicht'!B3<>0,'1. Übersicht'!B3,"") | H5: Anteil PK | I5: =IFERROR(1-I6,"") | J5: Q1a | L5: Q1a
A6: angewandter Tarif: | B6: =IF('1. Übersicht'!B4<>0,'1. Übersicht'!B4,"") -> In den Tabellenblättern 2.bis 2b. jeweils beim Personal angeben | H6: Anteil SK | I6: =IFERROR(F36/F38,"") | J6: Q1b | L6: Q1b
A7: Name Ansprechpartner Anbieter: | B7: =IF('1. Übersicht'!B5<>0,'1. Übersicht'!B5,"") | J7: Q2 | L7: Q2
A8: Tel.: | B8: =IF('1. Übersicht'!B6<>0,'1. Übersicht'!B6,"") | J8: Q3 | L8: Q3
A9: e-mail: | B9: =IF('1. Übersicht'!B7<>0,'1. Übersicht'!B7,"") | J9: Q4 | L9: Q4
D11: prospektiv auf Basis Gestehungskosten | E11: Gewinn- und Wagniszuschlag | F11: Aufwand inkl. Gewinn- und Wagniszuschlag
D13: Euro ohne Cent | E13: Prozentangabe | F13: Euro ohne Cent
C14: VZÄ
A15: I. PERSONALKOSTEN BETREUUNGSPERSONAL | D15: Ø | F15: Ø | H15: Berücksichtigung SK | I15: Berücksichtigung PK | J15: 1. Sachkostensteigerung | K15: 1. Personalkostensteigerung | L15: Berücksichtigung SK | M15: Berücksichtigung PK | N15: 2. Sachkostensteigerung | O15: 2. Personalkostensteigerung
A16: Q1a | C16: ='2. Betreuungspersonal'!B10 -> 0 | D16: =IFERROR('2. Betreuungspersonal'!B9,0) -> 0 | E16: 0.04 | F16: =D16+(D16*E16) -> 0 | H16: =$K$4*$I$6 -> #VALUE! | I16: =K5*$I$5 -> #VALUE! | J16: =F16+(F16*H16) -> #VALUE! | K16: =J16+(F16*I16) -> #VALUE! | L16: =$M$4*$I$6 -> #VALUE! | M16: =M5*$I$5 -> #VALUE! | N16: =K16+(K16*L16) -> #VALUE! | O16: =N16+(K16*M16) -> #VALUE!
A17: Q1b | C17: ='2. Betreuungspersonal'!C10 -> 0 | D17: =IFERROR('2. Betreuungspersonal'!C9,0) -> 0 | E17: 0.04 | F17: =D17+(D17*E17) -> 0 | H17: =$K$4*$I$6 -> #VALUE! | I17: =K6*$I$5 -> #VALUE! | J17: =F17+(F17*H17) -> #VALUE! | K17: =J17+(F17*I17) -> #VALUE! | L17: =$M$4*$I$6 -> #VALUE! | M17: =M6*$I$5 -> #VALUE! | N17: =K17+(K17*L17) -> #VALUE! | O17: =N17+(K17*M17) -> #VALUE!
A18: Q2 | C18: ='2. Betreuungspersonal'!D10 -> 0 | D18: =IFERROR('2. Betreuungspersonal'!D9,0) -> 0 | E18: 0.04 | F18: =D18+(D18*E18) -> 0 | H18: =$K$4*$I$6 -> #VALUE! | I18: =K7*$I$5 -> #VALUE! | J18: =F18+(F18*H18) -> #VALUE! | K18: =J18+(F18*I18) -> #VALUE! | L18: =$M$4*$I$6 -> #VALUE! | M18: =M7*$I$5 -> #VALUE! | N18: =K18+(K18*L18) -> #VALUE! | O18: =N18+(K18*M18) -> #VALUE!
A19: Q3 | C19: ='2. Betreuungspersonal'!E10 -> 0 | D19: =IFERROR('2. Betreuungspersonal'!E9,0) -> 0 | E19: 0.04 | F19: =D19+(D19*E19) -> 0 | H19: =$K$4*$I$6 -> #VALUE! | I19: =K8*$I$5 -> #VALUE! | J19: =F19+(F19*H19) -> #VALUE! | K19: =J19+(F19*I19) -> #VALUE! | L19: =$M$4*$I$6 -> #VALUE! | M19: =M8*$I$5 -> #VALUE! | N19: =K19+(K19*L19) -> #VALUE! | O19: =N19+(K19*M19) -> #VALUE!
A20: Q4 | C20: ='2. Betreuungspersonal'!F10 -> 0 | D20: =IFERROR('2. Betreuungspersonal'!F9,0) -> 0 | E20: 0.04 | F20: =D20+(D20*E20) -> 0 | H20: =$K$4*$I$6 -> #VALUE! | I20: =K9*$I$5 -> #VALUE! | J20: =F20+(F20*H20) -> #VALUE! | K20: =J20+(F20*I20) -> #VALUE! | L20: =$M$4*$I$6 -> #VALUE! | M20: =M9*$I$5 -> #VALUE! | N20: =K20+(K20*L20) -> #VALUE! | O20: =N20+(K20*M20) -> #VALUE!
A22: Summe Personalkosten Betreuungspersonal | C22: =SUM(C16:C20) -> 0 | D22: =C16*D16+C17*D17+C18*D18+C19*D19+C20*D20 -> 0 | F22: =C16*F16+C17*F17+C18*F18+C19*F19+C20*F20 -> 0
A24: II. V1 Leitung/Verwaltung | C24: ='2a. V1 LTG_VW'!I49 -> 0 | D24: =D25/D22 -> #DIV/0!
B25: Summe Kosten für Leitung/Verwaltung | D25: ='2a. V1 LTG_VW'!L51 -> 0 | E25: 0.04 | F25: =D25+(D25*E25) -> 0 | G25: =F25/F22 -> #DIV/0!
A27: Summe Kosten für Leitung/Verwaltung | D27: =D25 -> 0 | F27: =F25 -> 0
A29: Zwischensumme I. und II. | D29: =D22+D27 -> 0 | F29: =F22+F27 -> 0
A31: III. V2 Sachkosten/Investkosten | D31: =D36/D29 -> #DIV/0!
B32: Sachkosten/Investkosten gesamt | D32: ='2b. V2 SK u. IK'!C69 -> 0 | F32: =D32 -> 0
B33: davon anteilig berücksichtigt | D33: ='2b. V2 SK u. IK'!E69 -> 0 | E33: 0.04 | F33: =D33+(D33*E33) -> 0
B34: BFD/FSJ, Azubi Hauswirtschaft | C34: ='2b. V2 SK u. IK'!I105 -> 0 | D34: ='2b. V2 SK u. IK'!L105 -> 0 | E34: 0.04 | F34: =D34+(D34*E34) -> 0
A36: Summe Sachkosten/Investkosten | D36: =D33+D34 -> 0 | F36: =SUM(F33:F34) -> 0 | G36: =F36/F29 -> #DIV/0!
A38: Summe Gesamtkosten | D38: =D29+D36 -> 0 | F38: =F29+F36 -> 0

Sheet Anlage 19 - Wegezeiten
A1: Systematik der Ermittlung der Wegepauschale (weitere Zonen denkbar). Jenseits vereinbarter Zonen Abrechnung auf Basis der vereinbarten Fachleistungsstundensätze.
A3: rötliche Felder: | C3: Standardwerte gemäß Vereinbarung der Parteien.
A4: gelbliche Felder: | C4: Hier angebotsindividuelle Angaben/Einträge erforderlich.
A5: Effizienz: | B5: 0.5
A7: Bitte Klienten den Zonen gemäß Anfahrtsdauer der Adresse zuordnen. Anfahrtsdauer prüffähig
A8: (dokumentiert=Ausdruck zur Klientenakte) mit googlemaps o.ä. ermitteln.
A9: Bezeichnung | B9: Zone | D9: Definition Zonen
D10: Zone 1 | E10: = 0 bis 5 Minuten
D11: Zone 2 | E11: >5 bis 10 Minuten
D12: Zone 3 | E12: >10 bis 15 Minuten
D13: Zone 4 | E13: >15 bis 20 Minuten
D14: Zone 5 | E14: >20 bis 25 Minuten
F17: Preis FLS | G17: Q- Gruppen | H17: VK | I17: Anteil %
E18: FLS: | F18: =IFERROR('5. Gesamt'!J51,"") | G18: Q1a | H18: =IFERROR('5. Gesamt'!D51,"") -> 0 | I18: =IFERROR(H18*100/$H$23,0) -> 0
E19: FLS: | F19: =IFERROR('5. Gesamt'!J52,"") | G19: Q1b | H19: =IFERROR('5. Gesamt'!D52,"") -> 0 | I19: =IFERROR(H19*100/$H$23,0) -> 0
E20: FLS: | F20: =IFERROR('5. Gesamt'!J53,"") | G20: Q2 | H20: =IFERROR('5. Gesamt'!D53,"") -> 0 | I20: =IFERROR(H20*100/$H$23,0) -> 0
E21: FLS: | F21: =IFERROR('5. Gesamt'!J54,"") | G21: Q3 | H21: =IFERROR('5. Gesamt'!D54,"") -> 0 | I21: =IFERROR(H21*100/$H$23,0) -> 0
E22: FLS: | F22: =IFERROR('5. Gesamt'!J55,"") | G22: Q4 | H22: =IFERROR('5. Gesamt'!D55,"") -> 0 | I22: =IFERROR(H22*100/$H$23,0) -> 0
H23: =SUM(H18:H22) -> 0 | I23: =SUM(I18:I22) -> 0
E27: Q1a | F27: Q1b | G27: Q2 | H27: Q3 | I27: Q4
D28: Zone 1 | E28: =IFERROR(G40/60*$F$18*2*$I$18%*$B$5,0) -> 0 | F28: =IFERROR(G40/60*$F$19*2*$I$19%*$B$5,0) -> 0 | G28: =IFERROR(G40/60*$F$20*2*$I$20%*$B$5,0) -> 0 | H28: =IFERROR(G40/60*$F$21*2*$I$21%*$B$5,0) -> 0 | I28: =IFERROR(G40/60*$F$22*2*$I$22%*$B$5,0) -> 0
D29: Zone 2 | E29: =IFERROR(G41/60*$F$18*2*$I$18%*$B$5,0) -> 0 | F29: =IFERROR(G41/60*$F$19*2*$I$19%*$B$5,0) -> 0 | G29: =IFERROR(G41/60*$F$20*2*$I$20%*$B$5,0) -> 0 | H29: =IFERROR(G41/60*$F$21*2*$I$21%*$B$5,0) -> 0 | I29: =IFERROR(G41/60*$F$22*2*$I$22%*$B$5,0) -> 0
D30: Zone 3 | E30: =IFERROR(G42/60*$F$18*2*$I$18%*$B$5,0) -> 0 | F30: =IFERROR(G42/60*$F$19*2*$I$19%*$B$5,0) -> 0 | G30: =IFERROR(G42/60*$F$20*2*$I$20%*$B$5,0) -> 0 | H30: =IFERROR(G42/60*$F$21*2*$I$21%*$B$5,0) -> 0 | I30: =IFERROR(G42/60*$F$22*2*$I$22%*$B$5,0) -> 0
D31: Zone 4 | E31: =IFERROR(G43/60*$F$18*2*$I$18%*$B$5,0) -> 0 | F31: =IFERROR(G43/60*$F$19*2*$I$19%*$B$5,0) -> 0 | G31: =IFERROR(G43/60*$F$20*2*$I$20%*$B$5,0) -> 0 | H31: =IFERROR(G43/60*$F$21*2*$I$21%*$B$5,0) -> 0 | I31: =IFERROR(G43/60*$F$22*2*$I$22%*$B$5,0) -> 0
D32: Zone 5 | E32: =IFERROR(G44/60*$F$18*2*$I$18%*$B$5,0) -> 0 | F32: =IFERROR(G44/60*$F$19*2*$I$19%*$B$5,0) -> 0 | G32: =IFERROR(G44/60*$F$20*2*$I$20%*$B$5,0) -> 0 | H32: =IFERROR(G44/60*$F$21*2*$I$21%*$B$5,0) -> 0 | I32: =IFERROR(G44/60*$F$22*2*$I$22%*$B$5,0) -> 0
D33: Summe | E33: =SUM(E28:I32) -> 0
E34: ="/ "&F45&" Klienten =" -> / 0 Klienten =
E35: =IFERROR(ROUND(E33/F45,2)&" EUR je Einsatz",0) -> 0
D39: Mittelwert Zone Minuten | F39: Anzahl | G39: Summe
D40: Zone 1 | E40: 2.5 | F40: =COUNTIF($B$10:$B$54,D40) -> 0 | G40: =E40*F40 -> 0
D41: Zone 2 | E41: 7.5 | F41: =COUNTIF($B$10:$B$54,D41) -> 0 | G41: =E41*F41 -> 0
D42: Zone 3 | E42: 12.5 | F42: =COUNTIF($B$10:$B$54,D42) -> 0 | G42: =E42*F42 -> 0
D43: Zone 4 | E43: 17.5 | F43: =COUNTIF($B$10:$B$54,D43) -> 0 | G43: =E43*F43 -> 0
D44: Zone 5 | E44: 22.5 | F44: =COUNTIF($B$10:$B$54,D44) -> 0 | G44: =E44*F44 -> 0
F45: =SUM(F40:F44) -> 0

Sheet Personalübersicht
A3: Assistenzpersonal
A4: Gesamt | B4: ='5a. Kostenblatt'!C22 -> 0
A5: Q1a | B5: ='5a. Kostenblatt'!C16 -> 0
A6: Q1b | B6: ='5a. Kostenblatt'!C17 -> 0
A7: Q2 | B7: ='5a. Kostenblatt'!C18 -> 0
A8: Q3 | B8: ='5a. Kostenblatt'!C19 -> 0
A9: Q4 | B9: ='5a. Kostenblatt'!C20 -> 0
A11: ="Basisleistung "&'5. Gesamt'!B16 -> Basisleistung Bitte auswählen, wenn zutreffend oder eingeben. | D11: ="Basisleistung "&'5. Gesamt'!F16 -> Basisleistung Bitte auswählen, wenn zutreffend oder eingeben. | G11: ="Basisleistung "&'5. Gesamt'!J16 -> Basisleistung Bitte auswählen, wenn zutreffend oder eingeben.
A12: Q1a | B12: ='5. Gesamt'!D21 -> 0 | D12: Q1a | E12: ='5. Gesamt'!H21 -> 0 | G12: Q1a | H12: ='5. Gesamt'!L21 -> 0
A13: Q1b | B13: ='5. Gesamt'!D22 -> 0 | D13: Q1b | E13: ='5. Gesamt'!H22 -> 0 | G13: Q1b | H13: ='5. Gesamt'!L22 -> 0
A14: Q2 | B14: ='5. Gesamt'!D23 -> 0 | D14: Q2 | E14: ='5. Gesamt'!H23 -> 0 | G14: Q2 | H14: ='5. Gesamt'!L23 -> 0
A15: Q3 | B15: ='5. Gesamt'!D24 -> 0 | D15: Q3 | E15: ='5. Gesamt'!H24 -> 0 | G15: Q3 | H15: ='5. Gesamt'!L24 -> 0
A16: Q4 | B16: ='5. Gesamt'!D25 -> 0 | D16: Q4 | E16: ='5. Gesamt'!H25 -> 0 | G16: Q4 | H16: ='5. Gesamt'!L25 -> 0
A17: Gesamt | B17: ='5. Gesamt'!D26 -> 0 | D17: Gesamt | E17: ='5. Gesamt'!H26 -> 0 | G17: Gesamt | H17: ='5. Gesamt'!L26 -> 0
A19: ="Basisleistung "&'5. Gesamt'!B30 -> Basisleistung Bitte auswählen, wenn zutreffend oder eingeben. | D19: ="Basisleistung "&'5. Gesamt'!F30 -> Basisleistung Bitte auswählen, wenn zutreffend oder eingeben. | G19: ="Basisleistung "&'5. Gesamt'!J30 -> Basisleistung Bitte auswählen, wenn zutreffend oder eingeben.
A20: Q1a | B20: ='5. Gesamt'!D35 -> 0 | D20: Q1a | E20: ='5. Gesamt'!H35 -> 0 | G20: Q1a | H20: ='5. Gesamt'!L35 -> 0
A21: Q1b | B21: ='5. Gesamt'!D36 -> 0 | D21: Q1b | E21: ='5. Gesamt'!H36 -> 0 | G21: Q1b | H21: ='5. Gesamt'!L36 -> 0
A22: Q2 | B22: ='5. Gesamt'!D37 -> 0 | D22: Q2 | E22: ='5. Gesamt'!H37 -> 0 | G22: Q2 | H22: ='5. Gesamt'!L37 -> 0
A23: Q3 | B23: ='5. Gesamt'!D38 -> 0 | D23: Q3 | E23: ='5. Gesamt'!H38 -> 0 | G23: Q3 | H23: ='5. Gesamt'!L38 -> 0
A24: Q4 | B24: ='5. Gesamt'!D39 -> 0 | D24: Q4 | E24: ='5. Gesamt'!H39 -> 0 | G24: Q4 | H24: ='5. Gesamt'!L39 -> 0
A25: Gesamt | B25: ='5. Gesamt'!D40 -> 0 | D25: Gesamt | E25: ='5. Gesamt'!H40 -> 0 | G25: Gesamt | H25: ='5. Gesamt'!L40 -> 0
A27: ='5. Gesamt'!B44 -> 0
A28: Q1a | B28: ='5. Gesamt'!D51 -> 0
A29: Q1b | B29: ='5. Gesamt'!D52 -> 0
A30: Q2 | B30: ='5. Gesamt'!D53 -> 0
A31: Q3 | B31: ='5. Gesamt'!D54 -> 0
A32: Q4 | B32: ='5. Gesamt'!D55 -> 0
A33: Gesamt | B33: ='5. Gesamt'!D56 -> 0

Sheet Listen
A1: Sozialarbeiter:in (Diplom/Master/Bachelor) | B1: Q1a | C1: Reinigungskraft | E1: Bitte auswählen, wenn zutreffend oder eingeben. | G1: Wählen Sie das Modul aus. Je Modul ist eine gesonderte Datei zu erstellen! | I1: Bitte auswählen: | K1: BFD/FSJ | M1: Leitung gesamt | N1: 2b V2 Sk u IK Outgesourcte/zentrale Dienstleistungen | P1: Leitung
A2: Sozialpädagog:in (Diplom/Master/Bachelor) | B2: Q1a | C2: Hausmeister:in | E2: Tagesstruktur/-gruppe/-stätte | G2: 1. Tagesstruktur, | I2: Tagessatz | K2: Auszubildende/r | M2: Leitung vor Ort | N2: Wirtschaftsdienst | P2: Verwaltung
A3: Pädagog:in (Diplom/Master/Bachelor) | B3: Q1a | C3: Koch/Köchin | E3: Präsenz am Tag | G3: 2. Teilhabe in der eigenen Wohnung und anderen Wohnformen innerhalb und außerhalb von besonderen Wohnformen, | I3: Fachleistungsstundensatz | M3: Verwaltung gesamt | N3: externe Beratungskosten
A4: Erziehungswissenschaftler:in (Diplom/Master/Bachelor) | B4: Q1a | C4: Gärtner:in | E4: Präsenz Nachtwache | G4: 3. Teilhabe im Sozialraum, | M4: Verwaltung vor Ort | N4: externe gesetzliche Beauftragte
A5: Heilpädagogen (Diplom/Master/Bachelor) | B5: Q1a | E5: Präsenz Nachtbereitschaft | G5: 4. zusätzliche spezielle Bedarfslagen. | M5: gesetzl. Vorgaben
A6: Ergotherapeuten ((Diplom/Master/Bachelor) | B6: Q1a | E6: Sonderregelungen Ruf-Bereitschaft
A7: Psycholog:in (Diplom/Master/Bachelor) | B7: Q1a
A8: Ärztin/Arzt (Examen) | B8: Q1a
A9: sonst. fachspezifisch Diplom/Master/Bachelor | B9: Q1a
A11: Heilpädagog:innen (3 Jahre) | B11: Q1b
A12: Erzieher:innen (3 Jahre) | B12: Q1b
A13: Ergotherapeut:innen (3 Jahre) | B13: Q1b
A14: Heilerziehungspfleger:innen (3 Jahre) | B14: Q1b
A15: sonst. fachspezifische Ausbildung (3 Jahre) | B15: Q1b
A17: Pflegefachfrau/mann (ausgebildet) | B17: Q2
A18: Gesundheits- und Krankenpfleger:innen (ausgebildet) | B18: Q2
A19: Gesundheits- und Kinderkrankenpfleger:innen (ausgebildet) | B19: Q2
A20: Altenpfleger:innen (ausgebildet) | B20: Q2
... A34: Auszubildende:r | B34: Q4

Sheet Versionsverlauf
A1: Versionsverlauf:
B2: Blatt | C2: Zellen
A3: 2.1 | B3: 1. Übersicht | C3: Zelle B4 | D3: Farbe verändert und Erläuterung eingegeben
A4: 2.1 | B4: 2- -2b. | D4: Farben angepasst
A5: 2.1 | B5: 3a. | D5: Auf 5 Schichten erweitert
A6: 2.1 | B6: 5. Gesamt | C6: Zelle D11 | D6: Als Prozent formatiert
A7: 2.1 | B7: 5. Gesamt | C7: Zelle B12 | D7: "Abrechnungstage" statt "Tage/Klient"
A8: 2.1 | B8: 6. Gesamt | C8: Zelle N42 | D8: Plausibilitätsprüfung
A9: 2.3 | B9: 5. Gesamt | C9: N32 | D9: Fehlermeldung überarbeitet (IST-IST-Abgleich, statt vorher IST-SOLL-Abgleich)
A10: 2.3 | B10: 3a. | D10: Summenbildung korrigiert
A11: 2.3 | B11: 5. Gesamt | C11: B10 | D11: Text geändert von Tage auf Abrechnungstage
A12: 2.4 | B12: 2b. | C12: E81 | D12: geändert von x=RUNDEN(((C82*D82)+(C83*D83)+(C84*D84))*(C85*D85);2) zu =RUNDEN(((C82*D82)+(C83*D83)+(C84*D84))+(C85*D85);2)
A13: 2.4 | B13: 2b. | C13: E47 | D13: fehlende Formel "=C47*D47" eingesetzt
A14: 2.4 | B14: 2. | C14: G, J, K141 | D14: Summe bis Zelle 139 statt vorher 55
A15: 2.4 | B15: 2. | C15: B4-H10 | D15: Formeln überarbeitet
A16: 2.4 | B16: 1. Übersicht | C16: Zelle B22 | D16: Text konkretisiert
A17: 2.4 | B17: 1. Übersicht | C17: Zelle B23 | D17: neu: Text in Abgrenzung/Ergänzung zu Zelle B22
A18: 2.4 | B18: 1. Übersicht | C18: Zelle C23 | D18: neu: Zusätzliche Information
A19: 2.4 | B19: 5. Gesamt | C19: Zelle G119 | D19: verschoben nach F120
A20: 2.4 | B20: 5. Gesamt | C20: Zelle F118 | D20: neu: Text
A21: 2.4 | B21: 5. Gesamt | C21: Zellen F119-120 | D21: neu: Zusätzliche Information
A22: 2.5 | B22: 1. Übersicht | C22: Zelle I14 | D22: In der Formel I statt F
... A26: 2.7 | B26: 5. Gesamt | C26: Zelle N42 | D26: "G 10" durch "G5" ersetzt
A27: 2.8 | B27: "Hilfe" | D27: Wurde entfernt
A28: 2.8 | B28: 1. Übersicht | C28: B23-C23 | D28: Wurde entfernt
A29: 2.8 | B29: 1. Übersicht | C29: B16-I18 | D29: Felder dupliziert, Übernahme Werte aus Blatt 5. ("Gesamt")
A30: 2.8 | B30: 2a. V1 LTG_VW | D30: Spalte C "Tätigkeit" Leeres Auswahlfeld für weitere Angaben Trägerumlage ergänzt
A31: 2.8 | B31: 2b. V2 SK u. IK | C31: A2-E89 | D31: Neufassung Sach- und Investkosten
A32: 2.8 | B32: 2b. V2 SK u. IK | C32: A107-H117/B26-C26 | D32: Neues Eintragungsfeld für SK u. IK der Trägerumlage, automatische Übernahme der Kosten in B26/C26
A33: 2.8 | B33: 5. Gesamt | C33: B30-L42 | D33: Eintragungsfelder Vorhalteleistugen dupliziert
A34: 2.8 | B34: 5. Gesamt | C34: B117-L158 | D34: Berechnung Leistungsvolumen Vorhalteleistungen dupliziert
A35: 2.8 | B35: 5. Gesamt | C35: I176 | D35: Formel inkludiert Gesamtvolumen aus I129/I143/I157
A36: 2.8 | B36: 5a. Kostenblatt | C36: H3-O20 | D36: Berechnung Fortschreibung Personalkosten/SK u. IK eingefügt
A37: 2.8 | B37: Neu "Anlage 19 - Wegezeiten" | D37: Anlage 19 in Anlage 20 inkludiert, automatische Übernahme ermittelter Werte
A38: 2.8 | B38: Neu "Personalübersicht" | D38: Übersicht über Stellenanteile Q-Gruppen aus 5. ("Gesamt") ohne errechnete FLS/Tagessätze
